BEGIN:VCALENDAR
VERSION:2.0
PRODID:-//Muzeul Municipal Dej - ECPv6.15.20//NONSGML v1.0//EN
CALSCALE:GREGORIAN
METHOD:PUBLISH
X-ORIGINAL-URL:https://muzeulmunicipaldej.ro
X-WR-CALDESC:Evenimente pentru Muzeul Municipal Dej
REFRESH-INTERVAL;VALUE=DURATION:PT1H
X-Robots-Tag:noindex
X-PUBLISHED-TTL:PT1H
BEGIN:VTIMEZONE
TZID:UTC
BEGIN:STANDARD
TZOFFSETFROM:+0000
TZOFFSETTO:+0000
TZNAME:UTC
DTSTART:20240101T000000
END:STANDARD
END:VTIMEZONE
BEGIN:VEVENT
DTSTART;TZID=UTC:20250620T170000
DTEND;TZID=UTC:20250704T160000
DTSTAMP:20260425T165144
CREATED:20250611T071326Z
LAST-MODIFIED:20250611T071526Z
UID:6371-1750438800-1751644800@muzeulmunicipaldej.ro
SUMMARY:Portul Popular | O celebrare a tradiției\, eleganței și spiritului românesc
DESCRIPTION:Muzeul Municipal Dej are deosebita plăcere de a vă invita vineri\, 20 iunie 2025\, ora 17:00\, la vernisajul unui expoziții de grup dedicate artei\, tradiției și identității. Vom privi costumele populare prin expoziția „ZESTRE ROMÂNEASCĂ”\, imaginea țăranului roman prin expoziția de pictură „RĂDĂCINI ȘI RÂNDUIELI” și veți asculta povestea portului popular prin cuvintele Ioanei Mureșan\, profesoară la Școala Populară de Arte „Tudor Jarde” Cluj-Napoca. \nÎn cadrul acestui eveniment unic\, va fi prezentată colecția de costume populare tradiționale a doamnei Apostol Mariana\, o adevărată comoară etnografică ce aduce în prim-plan măiestria\, simbolistica și frumusețea portului românesc. Întreaga colecție este prezentată de curatorul Sebastian Paic. \nPrezentarea va fi completată de expoziția de pictură „RĂDĂCINI ȘI RÂNDUIELI”\, semnată de artistul Vasile Valentin Both\, un omagiu adus țăranului român din satul someșean\, în care culoarea\, simțirea și tradiția se împletesc cu o sensibilitate profundă. Povestea din spatele imaginilor este narată de Loredana Gheorghiu\, comisar de expoziție. \nEvenimentul se desfășoară în perioada 20 iunie – 4 iulie 2025\, în incinta Galeriei Muzeului Municipal Dej\, str. 1 Mai\, nr. 3. Vă așteptăm cu drag să descoperiți o punte între trecut și prezent\, între arta acului și a fusului și arta pensulei și a creionului!
URL:https://muzeulmunicipaldej.ro/activitati/portul-popular-o-celebrare-a-traditiei-elegantei-si-spiritului-romanesc/
LOCATION:Muzeul Municipal Dej\, 1 Mai nr. 3\, Dej\, Cluj\, 405200\, Romania
CATEGORIES:Evenimente
ATTACH;FMTTYPE=image/png:https://muzeulmunicipaldej.ro/wp-content/uploads/2025/06/www.muzeulmunicipaldej.ro-Website.png
ORGANIZER;CN="Muzeul Municipal Dej":MAILTO:muzeul_dej@yahoo.com
END:VEVENT
END:VCALENDAR