BEGIN:VCALENDAR
VERSION:2.0
PRODID:-//Muzeul Municipal Dej - ECPv6.15.20//NONSGML v1.0//EN
CALSCALE:GREGORIAN
METHOD:PUBLISH
X-ORIGINAL-URL:https://muzeulmunicipaldej.ro
X-WR-CALDESC:Evenimente pentru Muzeul Municipal Dej
REFRESH-INTERVAL;VALUE=DURATION:PT1H
X-Robots-Tag:noindex
X-PUBLISHED-TTL:PT1H
BEGIN:VTIMEZONE
TZID:UTC
BEGIN:STANDARD
TZOFFSETFROM:+0000
TZOFFSETTO:+0000
TZNAME:UTC
DTSTART:20240101T000000
END:STANDARD
END:VTIMEZONE
BEGIN:VEVENT
DTSTART;TZID=UTC:20251031T080000
DTEND;TZID=UTC:20251031T160000
DTSTAMP:20260421T135903
CREATED:20251002T060727Z
LAST-MODIFIED:20251002T060728Z
UID:6417-1761897600-1761926400@muzeulmunicipaldej.ro
SUMMARY:Expoziția de artă fotografică „Umbrele Culorii”
DESCRIPTION:Muzeul Municipal Dej găzduiește în perioada 2 – 31 octombrie 2025 expoziția de artă fotografică intitulată „Umbrele Culorii”\, semnată de fotograful Gelu Stănculescu\, cu participarea colaboratoarei Maria Scîrlet. \n\nEvenimentul aduce în prim-plan o serie de lucrări care explorează expresivitatea corpului uman prin intermediul culorii\, luminii și texturii\, într-un demers artistic ce reunește estetica vizuală și experimentul fotografic contemporan. Expoziția include și contribuții realizate alături de Diana G.\, Bianca Neagu și modelele din proiectul artonthewall.ro. \nProiectul este organizat cu sprijinul Consiliului Județean Cluj\, al Primăriei și Consiliului Local Dej\, și se desfășoară sub patronajul Asociației Artiștilor Fotografi din România (AAFR). \n\nPublicul este invitat să descopere universul vizual propus de artiști\, în care fotografia devine un mediu de dialog între culoare\, emoție și expresie artistică. \n\nExpoziția poate fi vizitată gratuit în cadrul galeriei Muzeului Municipal Dej\, str. 1 Mai nr. 3\, Dej\, jud. Cluj\, în perioada 02 – 31 octombrie 2025. Pentru informații suplimentare despre această expoziție\, vizitați site-ul www.gelustanculescu.ro.
URL:https://muzeulmunicipaldej.ro/activitati/expozitia-de-arta-fotografica-umbrele-culorii/
LOCATION:Muzeul Municipal Dej\, 1 Mai nr. 3\, Dej\, Cluj\, 405200\, Romania
CATEGORIES:Evenimente
ATTACH;FMTTYPE=image/png:https://muzeulmunicipaldej.ro/wp-content/uploads/2025/10/Umbrele-Culorii-social-media.png
END:VEVENT
END:VCALENDAR