BEGIN:VCALENDAR
VERSION:2.0
PRODID:-//Muzeul Municipal Dej - ECPv6.15.20//NONSGML v1.0//EN
CALSCALE:GREGORIAN
METHOD:PUBLISH
X-WR-CALNAME:Muzeul Municipal Dej
X-ORIGINAL-URL:https://muzeulmunicipaldej.ro
X-WR-CALDESC:Evenimente pentru Muzeul Municipal Dej
REFRESH-INTERVAL;VALUE=DURATION:PT1H
X-Robots-Tag:noindex
X-PUBLISHED-TTL:PT1H
BEGIN:VTIMEZONE
TZID:UTC
BEGIN:STANDARD
TZOFFSETFROM:+0000
TZOFFSETTO:+0000
TZNAME:UTC
DTSTART:20250101T000000
END:STANDARD
END:VTIMEZONE
BEGIN:VEVENT
DTSTART;TZID=UTC:20260122T170000
DTEND;TZID=UTC:20260213T160000
DTSTAMP:20260421T164931
CREATED:20260120T094058Z
LAST-MODIFIED:20260120T141204Z
UID:6441-1769101200-1770998400@muzeulmunicipaldej.ro
SUMMARY:„Incursiuni în Ireal”\, expoziție semnată de Robert Gal\, la Muzeul Municipal Dej
DESCRIPTION:Anunțăm vernisajul expoziției de artă plastică „Incursiuni în Ireal”\, semnată de artistul plastic Robert Gal\, una dintre prezențele constante ale vieții artistice locale și regionale. Evenimentul are loc la data de 22 ianuarie 2026\, ora 17:00\,  în cadrul Galeriei de Artă a Muzeului. Str. 1 Mai nr. 3.\, și propune publicului o întâlnire directă cu un demers artistic matur\, concentrat și coerent. \n  \nExpoziția reunește lucrări de pictură și grafică realizate de-a lungul ultimilor ani\, structurate într-un parcurs vizual care explorează relația dintre real și imaginar\, dintre percepție și introspecție. Titlul „Incursiuni în Ireal” reflectă direcția conceptuală a expoziției\, orientată spre spații simbolice\, stări interioare și construcții metaforice\, susținute de o cromatică expresivă și de o tensiune atent dozată între formă și culoare. \nNăscut la 21 ianuarie 1970\, în Dej\, județul Cluj\, Robert Gal este absolvent al Institutului de Arte Plastice „Ion Andreescu” din Cluj-Napoca\, cu specializare în psihologia și pedagogia artei. Activ atât ca artist\, cât și ca profesor de artă\, a predat la Colegiul Național „Andrei Mureșanu” și la Școala Gimnazială „Mihai Eminescu” din Dej\, fiind totodată coordonator al Clubului de pictură „Elena Szervacziusz” din cadrul Colegiului Național „Andrei Mureșanu”. \nIncursiuni în Ireal\, Robert Gal\nDe-a lungul carierei\, Robert Gal a participat la numeroase expoziții personale și colective în orașe precum Cluj-Napoca\, Sibiu\, Sighișoara\, Gherla\, Oradea și Dej. Lucrările sale se află în colecții particulare din România și din străinătate. Critica de specialitate a remarcat constant caracterul introspectiv al creației sale\, interesul pentru simbol și pentru construirea unui discurs plastic bazat pe sugestie și ambiguitate controlată. \nExpoziția „Incursiuni în Ireal” se înscrie în programul Muzeului Municipal Dej de susținere și valorizare a artiștilor contemporani\, oferind publicului ocazia de a parcurge un univers vizual personal\, în care fiecare lucrare funcționează ca un fragment de reflecție artistică. \nExpoziția va putea fi vizitată la Muzeul Municipal Dej\, până la data de 13 februarie 2026. Intrarea este liberă.
URL:https://muzeulmunicipaldej.ro/activitati/incursiuni-in-ireal-expozitie-semnata-de-robert-gal-la-muzeul-municipal-dej/
LOCATION:Muzeul Municipal Dej\, 1 Mai nr. 3\, Dej\, Cluj\, 405200\, Romania
CATEGORIES:Evenimente
ATTACH;FMTTYPE=image/jpeg:https://muzeulmunicipaldej.ro/wp-content/uploads/2026/01/WhatsApp-Image-2026-01-12-at-14.01.46-1.jpeg
ORGANIZER;CN="Muzeul Municipal Dej":MAILTO:muzeul_dej@yahoo.com
END:VEVENT
BEGIN:VEVENT
DTSTART;TZID=UTC:20260123T100000
DTEND;TZID=UTC:20260123T150000
DTSTAMP:20260421T164931
CREATED:20260120T133651Z
LAST-MODIFIED:20260120T134016Z
UID:6446-1769162400-1769180400@muzeulmunicipaldej.ro
SUMMARY:Mica Unire de la 1859\, moment fondator al României moderne
DESCRIPTION:Muzeul Municipal\, organizează vineri\, 23 ianuarie 2026\, un eveniment cultural dedicat Micii Uniri din 1859\, moment esențial în procesul de constituire a statului român modern. \nManifestarea va avea loc la sediul Muzeului Municipal Dej\, str. 1 Mai nr. 3 și va include două componente. În prima parte publicul este invitat\, de la ora 10:00 și ora 14:00\, în Sala Multimedia a Muzeului\, la vizionarea unui film documentar dedicat zilei de 24 ianuarie 1859\, „Unirea Principatelor Române din 1859”\, documentar de arhivă al TVR\, realizat cu scop educativ și comemorativ. Documentarul are rolul de a oferi o perspectivă vizuală asupra evenimentelor și personajelor-cheie ale epocii. \nA doua parte\, de la ora 12:00\, în Sala de Conferințe a Muzeului\, constă într-o conferință tematică susținută de către prof. Albinetz Constantin\, care va aborda contextul politic și diplomatic al unirii Moldovei cu Țara Românească\, rolul elitelor vremii și impactul acestui act asupra evoluției statului român. Conferința este urmată de vizionarea documentarului „Unirea Principatelor Române din 1859”\, documentar de arhivă al TVR. \n \nEvenimentul se adresează publicului larg\, elevilor\, profesorilor și tuturor celor interesați de istoria României și de momentele care au stat la baza formării identității naționale. Participarea este liberă\, în limita locurilor disponibile.
URL:https://muzeulmunicipaldej.ro/activitati/mica-unire-de-la-1859-moment-fondator-al-romaniei-moderne/
LOCATION:Muzeul Municipal Dej\, 1 Mai nr. 3\, Dej\, Cluj\, 405200\, Romania
CATEGORIES:Evenimente
ATTACH;FMTTYPE=image/png:https://muzeulmunicipaldej.ro/wp-content/uploads/2026/01/STOP-3.png
ORGANIZER;CN="Muzeul Municipal Dej":MAILTO:muzeul_dej@yahoo.com
END:VEVENT
END:VCALENDAR