BEGIN:VCALENDAR
VERSION:2.0
PRODID:-//Muzeul Municipal Dej - ECPv6.15.20//NONSGML v1.0//EN
CALSCALE:GREGORIAN
METHOD:PUBLISH
X-ORIGINAL-URL:https://muzeulmunicipaldej.ro
X-WR-CALDESC:Evenimente pentru Muzeul Municipal Dej
REFRESH-INTERVAL;VALUE=DURATION:PT1H
X-Robots-Tag:noindex
X-PUBLISHED-TTL:PT1H
BEGIN:VTIMEZONE
TZID:UTC
BEGIN:STANDARD
TZOFFSETFROM:+0000
TZOFFSETTO:+0000
TZNAME:UTC
DTSTART:20240101T000000
END:STANDARD
END:VTIMEZONE
BEGIN:VEVENT
DTSTART;TZID=UTC:20251210T000000
DTEND;TZID=UTC:20260116T160000
DTSTAMP:20260421T171019
CREATED:20251124T072117Z
LAST-MODIFIED:20251124T072239Z
UID:6424-1765324800-1768579200@muzeulmunicipaldej.ro
SUMMARY:uniVERSURI carcerale: poezia închisorilor comuniste
DESCRIPTION:Miercuri\, 10 decembrie 2025\, ora 12:00\, Muzeul Municipal Dej va vernisa expoziția „uniVERSURI carcerale: poezia închisorilor comuniste”\, organizată în parteneriat cu Muzeul Național al Unirii din Alba Iulia. \nExpoziția aduce în atenția publicului peste o sută de poezii compuse în memorie de cei închiși în penitenciare și lagăre de muncă în timpul represiunii comuniste\, iar apoi transcrise după eliberare și publicate\, de-a lungul timpului\, în antologii de lirică de detenție\, în reviste\, ziare și volume de memorii. \nGrupate tematic\, poeziile expuse sunt mărturie a unui imens patrimoniu de suferință; versurile descriu un univers al constrângerilor fizice în care gândul liber și spiritul triumfă prin creațiile minții. Vernisajul va fi urmat de un scurt atelier tematic dedicat elevilor de liceu și publicului expoziției.
URL:https://muzeulmunicipaldej.ro/activitati/universuri-carcerale-poezia-inchisorilor-comuniste/
LOCATION:Muzeul Municipal Dej\, 1 Mai nr. 3\, Dej\, Cluj\, 405200\, Romania
CATEGORIES:Evenimente
ATTACH;FMTTYPE=image/jpeg:https://muzeulmunicipaldej.ro/wp-content/uploads/2025/11/universuri-carcerale.jpeg
END:VEVENT
END:VCALENDAR