BEGIN:VCALENDAR
VERSION:2.0
PRODID:-//Muzeul Municipal Dej - ECPv6.15.20//NONSGML v1.0//EN
CALSCALE:GREGORIAN
METHOD:PUBLISH
X-WR-CALNAME:Muzeul Municipal Dej
X-ORIGINAL-URL:https://muzeulmunicipaldej.ro
X-WR-CALDESC:Evenimente pentru Muzeul Municipal Dej
REFRESH-INTERVAL;VALUE=DURATION:PT1H
X-Robots-Tag:noindex
X-PUBLISHED-TTL:PT1H
BEGIN:VTIMEZONE
TZID:UTC
BEGIN:STANDARD
TZOFFSETFROM:+0000
TZOFFSETTO:+0000
TZNAME:UTC
DTSTART:20240101T000000
END:STANDARD
END:VTIMEZONE
BEGIN:VEVENT
DTSTART;TZID=UTC:20250711T100000
DTEND;TZID=UTC:20250711T130000
DTSTAMP:20260419T142255
CREATED:20250707T160633Z
LAST-MODIFIED:20250707T160633Z
UID:6394-1752228000-1752238800@muzeulmunicipaldej.ro
SUMMARY:Conferințele SAMVS 2025. Artă\, Istorie & Etnografie
DESCRIPTION:Vineri\, 11 iulie 2025\, începând cu ora 10:00\, vă invităm la Conferințele SAMVS\, ediția 2025\, organizate în Sala de Conferințe a Muzeului Municipal Dej\, str. 1 Mai\, nr. 3. \nDacă iubești orașul Dej\, dacă te pasionează arta\, istoria și etnografia\, te așteptăm să descoperi idei valoroase și perspective noi alături de invitați cu experiență\, recunoscuți pentru deschiderea lor și calitatea profesională. Vom explora teme captivante din arta plastică\, istoria locală și patrimoniul etnografic\, contribuind împreună la promovarea valorilor culturale care definesc comunitatea noastră. \nConferințele SAMVS nu sunt doar un eveniment\, ci o ocazie de întâlnire și dialog cu specialiști dedicați domeniului cultural. Intrarea este liberă. Vino alături de noi și sprijină cultura locală! Distribuie mai departe să afle și prietenii tăi! Rămânem datori!
URL:https://muzeulmunicipaldej.ro/activitati/conferintele-samvs-2025-arta-istorie-etnografie/
LOCATION:Muzeul Municipal Dej\, 1 Mai nr. 3\, Dej\, Cluj\, 405200\, Romania
CATEGORIES:Evenimente
ATTACH;FMTTYPE=image/png:https://muzeulmunicipaldej.ro/wp-content/uploads/2025/07/The-Annual-Instagram-Post-45.png
ORGANIZER;CN="Muzeul Municipal Dej":MAILTO:muzeul_dej@yahoo.com
END:VEVENT
END:VCALENDAR