BEGIN:VCALENDAR
VERSION:2.0
PRODID:-//Muzeul Municipal Dej - ECPv6.15.20//NONSGML v1.0//EN
CALSCALE:GREGORIAN
METHOD:PUBLISH
X-ORIGINAL-URL:https://muzeulmunicipaldej.ro
X-WR-CALDESC:Evenimente pentru Muzeul Municipal Dej
REFRESH-INTERVAL;VALUE=DURATION:PT1H
X-Robots-Tag:noindex
X-PUBLISHED-TTL:PT1H
BEGIN:VTIMEZONE
TZID:UTC
BEGIN:STANDARD
TZOFFSETFROM:+0000
TZOFFSETTO:+0000
TZNAME:UTC
DTSTART:20240101T000000
END:STANDARD
END:VTIMEZONE
BEGIN:VEVENT
DTSTART;TZID=UTC:20250912T180000
DTEND;TZID=UTC:20250913T000000
DTSTAMP:20260423T191309
CREATED:20250903T084735Z
LAST-MODIFIED:20250903T084736Z
UID:6412-1757700000-1757721600@muzeulmunicipaldej.ro
SUMMARY:Zilele Culturale Maghiare 2025 la Muzeul Municipal Dej
DESCRIPTION:În perioada 12–14 septembrie 2025\, Municipiul Dej va găzdui o nouă ediție a Zilelor Culturale Maghiare\, un eveniment organizat de Asociația Culturală Kádár József\, în parteneriat cu Muzeul Municipal Dej și alți parteneri instituționali și comunitari. Programul cuprinde o varietate de activități culturale\, educative și recreative\, adresate atât publicului larg\, cât și copiilor și tinerilor. \nVineri\, 12 septembrie\nEvenimentele debutează la Muzeul Municipal Dej\, unde\, începând cu ora 18:00\, va avea loc deschiderea oficială a ediției\, însoțită de expoziția Micii artiști – o selecție de desene și fotografii. Seara continuă cu o degustare de vinuri oferită de Manufactura TURUL.Programul va continua la Sala de evenimente Ocna-Dejului\, cu un concurs interactiv Știi și câștigi (ora 20:00)\, urmat de un moment muzical susținut de DJ Roberth J & Friends (ora 22:00). \nSâmbătă\, 13 septembrie\nZiua de sâmbătă este dedicată în special activităților culturale și educative desfășurate la Muzeul Municipal Dej. \n\n\nÎn intervalul 10:00–12:00 se vor desfășura ateliere meșteșugărești. \n\n\nDe la ora 12:00\, vizitatorii pot participa la un tur ghidat al muzeului împreună cu Zamora Jenő\, cu activități interactive pentru copii susținute de Kingrica. \n\n\nProgramul continuă cu tir cu arcul (ora 13:00\, cu Szakács Ádám)\, apoi cu două prelegeri: Ce duci în valiză? (ora 15:00\, Madár Tímea) și Fizica cuantică\, sau cum poate fi o pisică vie și moartă în același timp (ora 16:30\, Bereczky Dorottya). \n\n\nSeara\, publicul este invitat la un spectacol de operetă al Classical Singers (ora 18:00)\, urmat de concertul formației muzicale NÉKED (ora 19:30) și de un Retro Party cu DJ Fodor Róbert (ora 21:00). \n\n\nPe tot parcursul zilei\, vizitatorii vor avea la dispoziție un colț de joacă pentru copii\, un colț creativ și un târg de produse meșteșugărești. \nDuminică\, 14 septembrie\nEvenimentul se va încheia la Biserica Reformată Dej\, unde de la ora 10:00 va fi oficiată o slujbă ecumenică\, urmată la ora 10:30 de ceremonia oficială de închidere. Programul se va încheia cu spectacolul Cei ce veghează\, susținut de actorul Marosán Csaba. \nOrganizare și sprijin\nEvenimentul este organizat de Asociația Culturală Kádár József și este sprijinit de Consiliul Județean Cluj\, Primăria Municipiului Dej\, Bethlen Gábor Alap\, precum și de parteneri instituționali și comunitari. \nZilele Culturale Maghiare din Dej oferă\, și în acest an\, un prilej de întâlnire între tradiție și modernitate\, între educație și divertisment\, consolidând dialogul intercultural și promovând patrimoniul cultural local. \n_______________________________________________________________________ \n2025 szeptember 12–14. között kerül megrendezésre a Magyar Kulturális Napok újabb kiadása Dézen. A rendezvény főszervezője a Kádár József Kulturális Egyesület\, a Dézi Városi Múzeum és további intézményi\, közösségi partnerek közreműködésével. A program gazdag kulturális\, oktatási és szabadidős eseményeket kínál\, minden korosztály számára. \nSzeptember 12.\, péntek\nA rendezvény a Dézi Városi Múzeumban veszi kezdetét 18:00 órakor az ünnepélyes megnyitóval\, valamint a Kis művészek című rajz- és fotókiállítással. Az est folytatásaként borkóstoló lesz a TURUL Manufaktúra közreműködésével.A program este az Ocna-Dézsai rendezvényteremben folytatódik: 20:00 órától Tudod és nyersz vetélkedő Szentesi Istvánnal\, majd 22:00 órától zenés est DJ Roberth J & Friends társaságában. \nSzeptember 13.\, szombat\nA szombati nap a Dézi Városi Múzeumban zajlik\, elsősorban kulturális és ismeretterjesztő eseményekkel. \n\n\n10:00–12:00 között kézműves foglalkozások várják a résztvevőket. \n\n\n12:00 órától Zamora Jenő tart múzeumlátogatást\, gyerekeknek interaktív programmal Kingrica közreműködésével. \n\n\n13:00 órától íjászbemutató következik Szakács Ádámmal. \n\n\n15:00 órától Madár Tímea tart előadást Mit viszel a bőröndben? címmel. \n\n\n16:30-kor Bereczky Dorottya előadása következik: Kvantumfizika\, avagy hogyan lehet egy macska egyszerre élő és halott. \n\n\n18:00 órától operett-előadás a Classical Singers előadásában. \n\n\n19:30-tól a NÉKED együttes koncertje. \n\n\n21:00 órától Retro Party DJ Fodor Róberttel. \n\n\nEgész nap elérhető lesz a játék- és kreatív sarok\, valamint a kézműves vásár. \nSzeptember 14.\, vasárnap\nA zárónap eseményeire a Dézi Református Templomban kerül sor. 10:00 órától ökumenikus istentiszteletet tartanak\, majd 10:30-kor hivatalosan is lezárják az eseményt. A rendezvény záróprogramja a Őrködők című előadás Marosán Csaba színművésszel. \nSzervezés és támogatás\nA rendezvényt a Kádár József Kulturális Egyesület szervezi\, a Kolozs Megyei Tanács\, a Dézi Polgármesteri Hivatal\, a Bethlen Gábor Alap\, valamint intézményi és közösségi partnerek támogatásával. \nA Magyar Kulturális Napok Dézen idén is alkalmat teremt a hagyomány és a modernitás találkozására\, az oktatás és a szórakozás összekapcsolására\, erősítve a kulturális párbeszédet és a helyi kulturális örökség értékeinek bemutatását.
URL:https://muzeulmunicipaldej.ro/activitati/zilele-culturale-maghiare-2025-la-muzeul-municipal-dej/
LOCATION:Muzeul Municipal Dej\, 1 Mai nr. 3\, Dej\, Cluj\, 405200\, Romania
CATEGORIES:Evenimente
ATTACH;FMTTYPE=image/png:https://muzeulmunicipaldej.ro/wp-content/uploads/2025/09/Untitled-design-46.png
END:VEVENT
END:VCALENDAR