BEGIN:VCALENDAR
VERSION:2.0
PRODID:-//Muzeul Municipal Dej - ECPv6.15.20//NONSGML v1.0//EN
CALSCALE:GREGORIAN
METHOD:PUBLISH
X-ORIGINAL-URL:https://muzeulmunicipaldej.ro
X-WR-CALDESC:Evenimente pentru Muzeul Municipal Dej
REFRESH-INTERVAL;VALUE=DURATION:PT1H
X-Robots-Tag:noindex
X-PUBLISHED-TTL:PT1H
BEGIN:VTIMEZONE
TZID:UTC
BEGIN:STANDARD
TZOFFSETFROM:+0000
TZOFFSETTO:+0000
TZNAME:UTC
DTSTART:20240101T000000
END:STANDARD
END:VTIMEZONE
BEGIN:VEVENT
DTSTART;TZID=UTC:20250710T170000
DTEND;TZID=UTC:20250815T160000
DTSTAMP:20260423T220506
CREATED:20250707T154810Z
LAST-MODIFIED:20250707T154851Z
UID:6389-1752166800-1755273600@muzeulmunicipaldej.ro
SUMMARY:Anuala Artiștilor Plastici Dejeni ed. 2025
DESCRIPTION:Muzeul Municipal Dej vă invită la vernisajul „Anuala Artiștilor Plastici Dejeni 2025”\, joi\, 10 iulie 2025\, ora 17:00\, în Galeria Muzeului de pe strada 1 Mai nr. 3\, Dej.\nEvenimentul este prezentat de Lect. univ. Luigi Bambulea (UNArte\, București)\, care va oferi publicului o introducere în universul artistic local\, printr-un discurs despre creațiile și viziunea artiștilor dejeni. Anuala este o ocazie de a strânge mâna artiștilor din comunitatea noastră\, de a le admira lucrările și de a descoperi poveștile din spatele fiecărei opere expuse. Expoziția va rămâne deschisă gratuit până în data de 15 august 2025\, oferindu-vă timp suficient pentru a reveni și a vă bucura de arta locală. \nVă așteptăm cu drag la muzeu să susținem împreună arta și creatorii din Dej!
URL:https://muzeulmunicipaldej.ro/activitati/anuala-artistilor-plastici-dejeni-ed-2025/
LOCATION:Muzeul Municipal Dej\, 1 Mai nr. 3\, Dej\, Cluj\, 405200\, Romania
CATEGORIES:Evenimente
ATTACH;FMTTYPE=image/png:https://muzeulmunicipaldej.ro/wp-content/uploads/2025/07/anuala-artistilor-plastici-Instagram-Post-45.png
ORGANIZER;CN="Muzeul Municipal Dej":MAILTO:muzeul_dej@yahoo.com
END:VEVENT
END:VCALENDAR