BEGIN:VCALENDAR
VERSION:2.0
PRODID:-//Muzeul Municipal Dej - ECPv6.15.20//NONSGML v1.0//EN
CALSCALE:GREGORIAN
METHOD:PUBLISH
X-ORIGINAL-URL:https://muzeulmunicipaldej.ro
X-WR-CALDESC:Evenimente pentru Muzeul Municipal Dej
REFRESH-INTERVAL;VALUE=DURATION:PT1H
X-Robots-Tag:noindex
X-PUBLISHED-TTL:PT1H
BEGIN:VTIMEZONE
TZID:UTC
BEGIN:STANDARD
TZOFFSETFROM:+0000
TZOFFSETTO:+0000
TZNAME:UTC
DTSTART:20240101T000000
END:STANDARD
END:VTIMEZONE
BEGIN:VEVENT
DTSTART;TZID=UTC:20250515T180000
DTEND;TZID=UTC:20250515T200000
DTSTAMP:20260423T105642
CREATED:20250427T121738Z
LAST-MODIFIED:20250427T121841Z
UID:6348-1747332000-1747339200@muzeulmunicipaldej.ro
SUMMARY:15 mai | Istorie & degustare vinuri alături de Crama Nachbil
DESCRIPTION:Primul eveniment dedicat Zilelor Culturale ale Muzeului și ca o continuare în atmosfera sărbătorii Centenarului Muzeului Municipal Dej\, vă invităm să descoperiți o experiență autentică și memorabilă: degustarea vinurilor ecologice Nachbil. O istorie care ne leagă pe vechiul drum al sării\, de la Dej până la Satu Mare\, alături de noi vor fi prezenți cu multe povești frumoase cei de la Cramele Nachbil.\nCrama Nachbil – o poveste despre pasiune\, tradiție și respect pentru natură\nCrama a fost înființată în 1999 în baza unei puternice tradiții\, a dragostei și puternicului angajament față de profesia de vinificator\, atunci când nimeni nu credea că societatea va da dovadă de pionierat în regiune și punând bazele viticulturii de azi din nordul Ardealului. Firma s-a dezvoltat în mod constant şi a achiziționat tot mai mult teren\, ajungând la 20 hectare de la cele 2\,5 iniţiale; însă munca de dezvoltare nu s-a încheiat aici\, întrucât terenurile plantate în trecut şi părăsite în prezent aşteaptă încă să fie exploatate \nCrama respectă şi cultivă moştenirea înaintaşilor\, iar din acest motiv a fost importantă achiziţionarea în anul 2002 a pivniţei Károlyi (care datează din 1730)\, splendidă în trecut\, dar aflată atunci în stadiu de ruină\, ce şi-a reabilitat astfel imaginea demult apusă. Prezentul este de neimaginat fără trecut şi nu ar putea supravieţui fără o imagine de viitor bine conturată\, imagine pentru a cărei dezvoltare şi extindere lucrează întreaga echipă a firmei. \nEnologul cramei este Csilla Serli\, care produce vinuri de calitate utilizând o tehnologie simplă. Un rol important în crezul ei îl are naturalitatea\, păstrarea originalităţii fructului. Cei ce degustă aceste vinuri sunt atinşi de pasiunea enologului\, de dragostea şi respectul faţă de această meserie\, fără de care nu s-ar putea produce vinuri cu adevărat minunate. \nCrama și vinurile Nachbil au obținut certificarea ecologică începând cu recolta 2017\, iar într-un articol special o să vă oferim informații despre această formă de viticultură. \nEvenimentul are loc joi\, 15 mai 2025\, începând cu ora 18:00. Locurile sunt limitate. Înscrierile la acest eveniment vor fi făcut în baza unei taxe de participare. Anunțăm în curând data de start a înscrierilor și prețul biletului. Stai cu ochii pe noi pentru a fi printre primii înscriși.
URL:https://muzeulmunicipaldej.ro/activitati/15-mai-istorie-degustare-vinuri-alaturi-de-crama-nachbil/
LOCATION:Cluj
CATEGORIES:Evenimente
ATTACH;FMTTYPE=image/png:https://muzeulmunicipaldej.ro/wp-content/uploads/2025/04/Untitled-design-29.png
ORGANIZER;CN="Muzeul Municipal Dej":MAILTO:muzeul_dej@yahoo.com
END:VEVENT
BEGIN:VEVENT
DTSTART;TZID=UTC:20250515T140000
DTEND;TZID=UTC:20250516T170000
DTSTAMP:20260423T105642
CREATED:20250507T095932Z
LAST-MODIFIED:20250507T095932Z
UID:6357-1747317600-1747414800@muzeulmunicipaldej.ro
SUMMARY:15-16 mai 2025 | Zilele Culturale ale Muzeului ed. a 2-a
DESCRIPTION:O nouă ediție de sărbătoare culturală prinde viață în luna mai\, chiar în inima Dejul! Muzeul Municipal Dej vă invită cu drag la cea de-a doua ediție a Zilelor Culturale ale Muzeului\, un eveniment dedicat comunității\, tradiției\, artei și descoperirii patrimoniului local.\nÎn cele două zile de eveniment\, vizitatorii sunt invitați să participe la activități care aduc istoria la viață alături de Terra Dacica Aeterna\, să descopere gustul terroir-ului transilvănean prin vinurile ecologice ale Cramei Nachbil și să pătrundă în lumea artei contemporane prin expoziția Universității de Artă și Design din Cluj-Napoca. \nProgramul evenimentului:\nJoi\, 15 mai 2025 \n14:00 – 17:00\nAteliere de reconstituire istorică susținute de Asociația Terra Dacica Aeterna\nO experiență educativă și interactivă în care publicul va putea explora arme\, unelte\, vestimentație și stil de viață din Antichitate\, aduse la viață de unii dintre cei mai apreciați reenactori istorici din România. \n18:00\nDegustare de vinuri ecologice cu Crama Nachbil\nDescoperiți 6 vinuri excepționale\, într-o seară dedicată gusturilor rafinate și poveștilor din nordul Ardealului (taxă de participare: 50 lei/persoană) \n Vineri\, 16 mai 2025 \n16:00\nVernisaj expoziție Universitatea de Artă și Design Cluj-Napoca – Secția Textile\nTineri artiști propun o incursiune în universul materialelor și formelor contemporane\, într-un dialog vizual plin de creativitate\, culoare și experiment. \nDe ce să participi? \nPentru că Zilele Culturale ale Muzeului sunt mai mult decât un eveniment – sunt o reconectare cu identitatea locală\, cu arta\, cu trecutul viu și cu comunitatea care construiește prezentul. Este o invitație deschisă către toți cei care vor să fie aproape de propria istorie și să o trăiască activ și participativ. \n 
URL:https://muzeulmunicipaldej.ro/activitati/15-16-mai-2025-zilele-culturale-ale-muzeului-ed-a-2-a/
LOCATION:Cluj
CATEGORIES:Evenimente
ATTACH;FMTTYPE=image/png:https://muzeulmunicipaldej.ro/wp-content/uploads/2025/05/zilele-culturale-1200-x-800-px.png
ORGANIZER;CN="Muzeul Municipal Dej":MAILTO:muzeul_dej@yahoo.com
END:VEVENT
BEGIN:VEVENT
DTSTART;TZID=UTC:20250430T180000
DTEND;TZID=UTC:20250512T160000
DTSTAMP:20260423T105642
CREATED:20250413T095613Z
LAST-MODIFIED:20250508T143034Z
UID:6292-1746036000-1747065600@muzeulmunicipaldej.ro
SUMMARY:30 Aprilie 2025 Vernisaj „Dialog între forme și culori” | Ana-Maria Galea & Alexandru Ghețe
DESCRIPTION:Expoziția „Dialog între forme și culori” urcă pe simezele muzeului prin grija doamnei Gheorghiu Loredana. Sculptura și pictura se întâlnesc și se amestecă miercuri\, 30 aprilie 2025\, ora 18:00\, prin munca artistică a sculptorului Alexandru Ghețe și a pictoriței Galea Ana-Maria.\nExpoziția „Dialog între forme și culori” aduce împreună două demersuri artistice distincte\, dar complementare: pictura Anei Maria Galea și sculptura lui Alexandru Ghețe. Această întâlnire între formă și culoare creează un spațiu de conversație vizuală\, unde volumul și linia\, masa și lumina\, se răspund și se îmbogățesc reciproc. Pictura aduce culoare\, vibrație și ritm\, deschizând suprafețe spre expresii lirice sau intense. Sculptura\, lucrată în marmura de Rușchița\, propune forme ce evocă zborul\, călătoria și meditația\, redând ideea de mișcare și transcendență în materialul cel mai dens. Astfel\, pictorița și sculptorul construiesc împreună o experiență sinestezică\, în care privitorul este invitat să treacă de la tactilitatea formelor la efervescența cromatică\, de la greutatea reală la ușurința percepției.\nTitlul expoziției reflectă tocmai această tensiune fertilă dintre cele două medii de expresie – o corespondență subtilă între bidimensional și tridimensional\, între lumea materială și cea emoțională\, între echilibru și spontaneitate. \nAna Maria Galea – Culoarea ca spațiu al memoriei și al visării\nÎn cadrul expoziției „Dialog între forme și culori”\, artista Ana Maria Galea aduce în fața publicului un univers vibrant\, construit prin 19 lucrări în tehnica acrilicului pe pânză. Picturile sale explorează cu delicatețe și intensitate natura\, în multiplele sale ipostaze: câmpuri de flori\, vaze pline de vitalitate\, păduri iradiind de lumină\, păsări și peisaje care evocă marea și țărmurile însorite ale Italiei și Greciei. Culoarea devine pentru Ana Maria Galea un limbaj esențial\, o punte între realitate și emoție. În lucrările sale\, natura nu este redată ca un simplu subiect exterior\, ci este interiorizată și reinterpretată ca spațiu al luminii și al senzației pure. Florile explodează în tușe vii\, câmpurile se topesc în ritmuri cromatice ample\, iar marea\, cu toate reflecțiile și mișcările sale\, devine un teritoriu al libertății și al contemplării.\nPictura sa propune o estetică a vitalității și a luminilor schimbătoare\, transformând fiecare peisaj într-un refugiu al spiritului. Departe de a fi doar o reprezentare fidelă\, aceste lucrări sunt meditații coloristice asupra frumuseții efemere\, asupra locurilor care ne ating și ne rămân în memorie. În dialogul expozițional\, creația Anei Maria Galea aduce vibrația culorii\, căldura atmosferei și energia subtilă a naturii\, completând sculptura printr-o dimensiune picturală a percepției și a trăirii. \nAlexandru Ghețe – Dialogul materiei și al spiritului\nÎn expoziția „Dialog între forme și culori”\, sculptorul Alexandru Ghețe aduce în fața publicului o selecție de 15 lucrări recente\, toate realizate în marmura nobilă de Rușchița. Artistul explorează\, cu rafinament și sensibilitate\, teme universale precum zborul\, călătoria și meditația\, propunând forme inspirate din natură – pești\, păsări și siluete aeriene – care par să graviteze între real și metaforă. Lucrările sale dezvăluie o relație profundă între masivitatea materialului și finețea gestului sculptural. Marmura\, cu densitatea și strălucirea sa inconfundabilă\, este transformată de Alexandru Ghețe într-un limbaj al ușurătății și al mișcării\, sugerând ideea de plutire\, de drum interior sau călătorie. În acest duo expozițional\, formele sale tridimensionale intră într-un dialog subtil cu universul cromatic al picturii\, construind împreună o poetică a întâlnirii între materialitatea formelor și vibrația culorii. Expoziția devine astfel nu doar o punte între două tipuri de expresie artistică\, ci și o invitație la contemplare\, la călătorii interioare purtate de forme și tonuri. Prin fiecare lucrare\, Alexandru Ghețe reafirmă forța artei de a transforma materia brută în metaforă vie\, în simbol al aspirațiilor umane către libertate și cunoaștere. \n„Dialog între forme și culori” este mai mult decât o expoziție – este un spațiu al întâlnirii și al comunicării artistice\, o invitație de a descoperi\, pas cu pas\, felul în care forma și culoarea pot spune împreună povești despre lume\, despre visare și despre spiritul uman. \nComisar de expoziție\, Loredana Gheorghiu
URL:https://muzeulmunicipaldej.ro/activitati/30-aprilie-2025-vernisaj-dialog-intre-forme-si-culori-ana-maria-galea-alexandru-ghete/
LOCATION:Muzeul Municipal Dej\, 1 Mai nr. 3\, Dej\, Cluj\, 405200\, Romania
CATEGORIES:Evenimente
ATTACH;FMTTYPE=image/png:https://muzeulmunicipaldej.ro/wp-content/uploads/2025/04/luni-14-aprilie-2025-1200-x-800-px-2.png
ORGANIZER;CN="Muzeul Municipal Dej":MAILTO:muzeul_dej@yahoo.com
END:VEVENT
END:VCALENDAR